BEGIN:VCALENDAR
VERSION:2.0
PRODID:-//PhilHist Unibas//NONSGML Phil Platform 4.0//EN
CALSCALE:GREGORIAN
BEGIN:VTIMEZONE
TZID:Europe/Zurich
X-LIC-LOCATION:Europe/Zurich
TZURL:http://tzurl.org/zoneinfo/Europe/Zurich
BEGIN:DAYLIGHT
TZOFFSETFROM:+0100
TZOFFSETTO:+0200
TZNAME:CEST
DTSTART:19810329T020000
END:DAYLIGHT
BEGIN:STANDARD
TZOFFSETFROM:+0200
TZOFFSETTO:+0100
TZNAME:CET
DTSTART:19961027T030000
END:STANDARD
END:VTIMEZONE
BEGIN:VEVENT
UID:even-bVA8JrOmv3
DTSTAMP;TZID=Europe/Zurich:20260420T000000
DTSTART;TZID=Europe/Zurich:20260420T181500
DTEND;TZID=Europe/Zurich:20260420T194500
SUMMARY:Landschaften im Wandel – Paläoökologische Untersuchungen zu Landnutzung und Vegetationsveränderungen seit dem Neolithikum
DESCRIPTION:Vortrag von Lucia Wick (Universität Basel) im Rahmen des Forschungskolloquiums IPNA/UFG/PRA („Kränzli“), FS 2026.
X-ALT-DESC:Vortrag von Lucia Wick (Universität Basel) im Rahmen des Forschungskolloquiums IPNA/UFG/PRA („Kränzli“), FS 2026.
LOCATION:Rosshofgasse (Schnitz), Seminarraum S01
END:VEVENT
BEGIN:VEVENT
UID:even-TFczQ0GeUm
DTSTAMP;TZID=Europe/Zurich:20260420T000000
DTSTART;TZID=Europe/Zurich:20260421T181500
DTEND;TZID=Europe/Zurich:20260421T200000
SUMMARY:Aramäisch im Sprachbewusstsein der griechisch-römischen Antike
DESCRIPTION:Vortrag von Holger Gzella (LMU München) im Rahmen des Kolloquiums «Zur neueren Forschung in der Alten Geschichte» im FS 2026.
X-ALT-DESC:Vortrag von Holger Gzella (LMU München) im Rahmen des Kolloquiums «Zur neueren Forschung in der Alten Geschichte» im FS 2026.
LOCATION:Kollegienhaus, Hörsaal 114
END:VEVENT
BEGIN:VEVENT
UID:even-Xfv8qzhFEa
DTSTAMP;TZID=Europe/Zurich:20260420T000000
DTSTART;TZID=Europe/Zurich:20260422T181500
DTEND;TZID=Europe/Zurich:20260422T194500
SUMMARY:Mutilated Manhood: Pain, Power, and the Broken Body in Roman Imperial Culture
DESCRIPTION:Gastvortrag von Elina Pyy (Helsinki) im Rahmen des Forschungskolloquiums der Latinistik FS2026
X-ALT-DESC:Gastvortrag von Elina Pyy (Helsinki) im Rahmen des Forschungskolloquiums der Latinistik FS2026
LOCATION:Rosshof (Petersgraben 51), Tagungsraum 306
END:VEVENT
END:VCALENDAR